BEGIN:VCALENDAR
VERSION:2.0
PRODID:-//ChamberMaster//Event Calendar 2.0//EN
METHOD:PUBLISH
X-PUBLISHED-TTL:P1H
REFRESH-INTERVAL:P1H
CALSCALE:GREGORIAN
BEGIN:VTIMEZONE
TZID:America/New_York
BEGIN:DAYLIGHT
RRULE:FREQ=YEARLY;BYMONTH=3;BYDAY=2SU
DTSTART:20070101T000000
TZOFFSETFROM:-0500
TZOFFSETTO:-0400
TZNAME:Eastern Daylight Time
END:DAYLIGHT
BEGIN:STANDARD
RRULE:FREQ=YEARLY;BYMONTH=11;BYDAY=1SU
DTSTART:20070101T000000
TZOFFSETFROM:-0400
TZOFFSETTO:-0500
TZNAME:Eastern Standard Time
END:STANDARD
END:VTIMEZONE
BEGIN:VEVENT
DTSTART;VALUE=DATE:20260708
DTEND;VALUE=DATE:20260715
TRANSP:TRANSPARENT
X-MICROSOFT-CDO-ALLDAYEVENT:TRUE
SUMMARY:New Director's Institute
DESCRIPTION:Virtual: July 8-10\, 13-14 For Directors or Assistant Directors of synagogue education programs who have been in their position for 3 years or less. For more information and to register\, please visit: https://uscj.org/leadership/new-directors-institute-ndi/.
X-ALT-DESC;FMTTYPE=text/html:<!DOCTYPE html><html><head><title></title></head><body aria-disabled="false"><p>Virtual: July 8-10\, 13-14 For Directors or Assistant Directors of synagogue education programs who have been in their position for 3 years or less. For more information and to register\, please visit:&nbsp\;<a fr-original-style="" href="https://uscj.org/leadership/new-directors-institute-ndi/" style="user-select: auto\;">https://uscj.org/leadership/new-directors-institute-ndi/</a>.</p></body></html>
LOCATION:
UID:e.3111.1448518
SEQUENCE:3
DTSTAMP:20260425T153625Z
URL:https://members.reformeducators.org/events/Details/new-director-s-institute-1715517?sourceTypeId=Hub
END:VEVENT
END:VCALENDAR
